BEGIN:VCALENDAR
VERSION:2.0
PRODID:-//wp-events-plugin.com//7.2.3.1//EN
TZID:Europe/Berlin
X-WR-TIMEZONE:Europe/Berlin
BEGIN:VEVENT
UID:16@foerderverein.chursdorf.de
DTSTART;TZID=Europe/Berlin:20260220T180000
DTEND;TZID=Europe/Berlin:20260220T220000
DTSTAMP:20251204T082158Z
URL:https://foerderverein.chursdorf.de/events/spieleabend-2/
SUMMARY:Spieleabend
DESCRIPTION:
ATTACH;FMTTYPE=image/jpeg:https://foerderverein.chursdorf.de/wp-content/up
 loads/2025/12/game-3978841_640.jpg
CATEGORIES:Kneipe,Öffentlich,Spieleabend
LOCATION:Werner-Kästner-Halle\, Landgutweg 13\, Penig  (Chursdorf)\, 09322
 \, Deutschland
X-APPLE-STRUCTURED-LOCATION;VALUE=URI;X-ADDRESS=Landgutweg 13\, Penig  (Chu
 rsdorf)\, 09322\, Deutschland;X-APPLE-RADIUS=100;X-TITLE=Werner-Kästner-H
 alle:geo:0,0
END:VEVENT
BEGIN:VTIMEZONE
TZID:Europe/Berlin
X-LIC-LOCATION:Europe/Berlin
BEGIN:STANDARD
DTSTART:20251026T020000
TZOFFSETFROM:+0200
TZOFFSETTO:+0100
TZNAME:CET
END:STANDARD
END:VTIMEZONE
END:VCALENDAR