BEGIN:VCALENDAR
VERSION:2.0
PRODID:-//wp-events-plugin.com//7.2.3.1//EN
TZID:Europe/Berlin
X-WR-TIMEZONE:Europe/Berlin
BEGIN:VEVENT
UID:17@foerderverein.chursdorf.de
DTSTART;TZID=Europe/Berlin:20261117T180000
DTEND;TZID=Europe/Berlin:20261117T210000
DTSTAMP:20260304T192506Z
URL:https://foerderverein.chursdorf.de/events/spieleabend-mit-offener-knei
 pe/
SUMMARY:Spieleabend mit offener Kneipe
DESCRIPTION:\n 	Komm vorbei\, um gemeinsam mit anderen zu spielen - Brettsp
 iele\, Kartenspiele\, Retro-Konsole...\n 	Es gibt Getränke und einen klei
 nen Imbiss.\n 	Die Cocktailbar ist geöffnet.\n 	Keine Lust auf Spiele? Da
 nn schau trotzdem mal rein. Die Sitzecke lädt auch einfach nur zum Quatsc
 hen ein!\n\n&nbsp\;
ATTACH;FMTTYPE=image/jpeg:https://foerderverein.chursdorf.de/wp-content/up
 loads/2025/10/gambling-4178462_640.jpg
CATEGORIES:Kneipe,Öffentlich,Spieleabend
LOCATION:Werner-Kästner-Halle\, Landgutweg 13\, Penig  (Chursdorf)\, 09322
 \, Deutschland
X-APPLE-STRUCTURED-LOCATION;VALUE=URI;X-ADDRESS=Landgutweg 13\, Penig  (Chu
 rsdorf)\, 09322\, Deutschland;X-APPLE-RADIUS=100;X-TITLE=Werner-Kästner-H
 alle:geo:0,0
END:VEVENT
BEGIN:VTIMEZONE
TZID:Europe/Berlin
X-LIC-LOCATION:Europe/Berlin
BEGIN:STANDARD
DTSTART:20261025T020000
TZOFFSETFROM:+0200
TZOFFSETTO:+0100
TZNAME:CET
END:STANDARD
END:VTIMEZONE
END:VCALENDAR